BEGIN:VCALENDAR
VERSION:2.0
PRODID:-// - ECPv4.8.2//NONSGML v1.0//EN
CALSCALE:GREGORIAN
METHOD:PUBLISH
X-ORIGINAL-URL:http://adventure4wdclubofwa.asn.au
X-WR-CALDESC:Events for 
BEGIN:VEVENT
DTSTART;VALUE=DATE:20210501
DTEND;VALUE=DATE:20210503
DTSTAMP:20210222T232217
CREATED:20201101T103239Z
LAST-MODIFIED:20210222T140943Z
UID:661-1619827200-1619999999@adventure4wdclubofwa.asn.au
SUMMARY:Overnight Trip: WhiteGum Farm
DESCRIPTION:\n\n\n\n\n\n\n\n\n\n\nIn the Needling Hills\, east of York\, WhiteGum Farm is a beautiful place to stay with plenty of attractions including a 4WD park. Join the camp oven cook off and dinner. \n\n\n\n\nTrip Leader: Mark \n
URL:http://adventure4wdclubofwa.asn.au/?tribe_events=overnight-trip-whitegum-farm
END:VEVENT
END:VCALENDAR