BEGIN:VCALENDAR
VERSION:2.0
PRODID:-// - ECPv4.8.2//NONSGML v1.0//EN
CALSCALE:GREGORIAN
METHOD:PUBLISH
X-ORIGINAL-URL:http://adventure4wdclubofwa.asn.au
X-WR-CALDESC:Events for 
BEGIN:VEVENT
DTSTART;VALUE=DATE:20210320
DTEND;VALUE=DATE:20210322
DTSTAMP:20210222T232037
CREATED:20201021T130243Z
LAST-MODIFIED:20201021T130243Z
UID:632-1616198400-1616371199@adventure4wdclubofwa.asn.au
SUMMARY:Overnight Trip: Moore River
DESCRIPTION:Trip Leader: Steve \n
URL:http://adventure4wdclubofwa.asn.au/?tribe_events=overnight-trip-moore-river
END:VEVENT
END:VCALENDAR