BEGIN:VCALENDAR
VERSION:2.0
PRODID:-// - ECPv4.8.2//NONSGML v1.0//EN
CALSCALE:GREGORIAN
METHOD:PUBLISH
X-ORIGINAL-URL:http://adventure4wdclubofwa.asn.au
X-WR-CALDESC:Events for 
BEGIN:VEVENT
DTSTART;VALUE=DATE:20210228
DTEND;VALUE=DATE:20210302
DTSTAMP:20210222T231829
CREATED:20201021T130045Z
LAST-MODIFIED:20210222T140734Z
UID:630-1614470400-1614643199@adventure4wdclubofwa.asn.au
SUMMARY:Long Weekend: Wedge to Greenough
DESCRIPTION:Trip Leader: Paul B \n
URL:http://adventure4wdclubofwa.asn.au/?tribe_events=long-weekend-cervantes
END:VEVENT
END:VCALENDAR