BEGIN:VCALENDAR
VERSION:2.0
PRODID:-// - ECPv4.8.2//NONSGML v1.0//EN
CALSCALE:GREGORIAN
METHOD:PUBLISH
X-ORIGINAL-URL:http://adventure4wdclubofwa.asn.au
X-WR-CALDESC:Events for 
BEGIN:VEVENT
DTSTART;VALUE=DATE:20210221
DTEND;VALUE=DATE:20210222
DTSTAMP:20210222T232029
CREATED:20201021T125904Z
LAST-MODIFIED:20201021T130943Z
UID:628-1613865600-1613951999@adventure4wdclubofwa.asn.au
SUMMARY:Day Trip: Preston - Whitehills - Myalup
DESCRIPTION:Trip Leader: Simon \n
URL:http://adventure4wdclubofwa.asn.au/?tribe_events=day-trip-preston-whitehills-myalup
END:VEVENT
END:VCALENDAR